BEGIN:VCALENDAR
VERSION:2.0
PRODID:-//Plymouth Lions Club - ECPv6.15.18//NONSGML v1.0//EN
CALSCALE:GREGORIAN
METHOD:PUBLISH
X-ORIGINAL-URL:https://plymouthlionsclub.org
X-WR-CALDESC:Events for Plymouth Lions Club
REFRESH-INTERVAL;VALUE=DURATION:PT1H
X-Robots-Tag:noindex
X-PUBLISHED-TTL:PT1H
BEGIN:VTIMEZONE
TZID:America/Chicago
BEGIN:DAYLIGHT
TZOFFSETFROM:-0600
TZOFFSETTO:-0500
TZNAME:CDT
DTSTART:20230312T080000
END:DAYLIGHT
BEGIN:STANDARD
TZOFFSETFROM:-0500
TZOFFSETTO:-0600
TZNAME:CST
DTSTART:20231105T070000
END:STANDARD
BEGIN:DAYLIGHT
TZOFFSETFROM:-0600
TZOFFSETTO:-0500
TZNAME:CDT
DTSTART:20240310T080000
END:DAYLIGHT
BEGIN:STANDARD
TZOFFSETFROM:-0500
TZOFFSETTO:-0600
TZNAME:CST
DTSTART:20241103T070000
END:STANDARD
BEGIN:DAYLIGHT
TZOFFSETFROM:-0600
TZOFFSETTO:-0500
TZNAME:CDT
DTSTART:20250309T080000
END:DAYLIGHT
BEGIN:STANDARD
TZOFFSETFROM:-0500
TZOFFSETTO:-0600
TZNAME:CST
DTSTART:20251102T070000
END:STANDARD
BEGIN:DAYLIGHT
TZOFFSETFROM:-0600
TZOFFSETTO:-0500
TZNAME:CDT
DTSTART:20260308T080000
END:DAYLIGHT
BEGIN:STANDARD
TZOFFSETFROM:-0500
TZOFFSETTO:-0600
TZNAME:CST
DTSTART:20261101T070000
END:STANDARD
END:VTIMEZONE
BEGIN:VEVENT
DTSTART;TZID=America/Chicago:20241216T173000
DTEND;TZID=America/Chicago:20241216T183000
DTSTAMP:20260425T104318
CREATED:20240906T203923Z
LAST-MODIFIED:20240906T203923Z
UID:4307-1734370200-1734373800@plymouthlionsclub.org
SUMMARY:Board Meeting
DESCRIPTION:
URL:https://plymouthlionsclub.org/event/board-meeting-10/
LOCATION:Sweet Basil\, 645 Walton Dr\, Plymouth\, WI\, 53073
END:VEVENT
BEGIN:VEVENT
DTSTART;TZID=America/Chicago:20250113T170000
DTEND;TZID=America/Chicago:20250113T180000
DTSTAMP:20260425T104318
CREATED:20240906T204048Z
LAST-MODIFIED:20240906T204048Z
UID:4309-1736787600-1736791200@plymouthlionsclub.org
SUMMARY:Board Meeting
DESCRIPTION:
URL:https://plymouthlionsclub.org/event/board-meeting-11/
LOCATION:PJ Campbells Depot\, 114 Depot Rd.\, Plymouth\, WI\, 53073\, United States
END:VEVENT
BEGIN:VEVENT
DTSTART;TZID=America/Chicago:20250113T180000
DTEND;TZID=America/Chicago:20250113T203000
DTSTAMP:20260425T104318
CREATED:20240906T204145Z
LAST-MODIFIED:20240906T204145Z
UID:4311-1736791200-1736800200@plymouthlionsclub.org
SUMMARY:Regular Meeting w/Cascade Lions
DESCRIPTION:
URL:https://plymouthlionsclub.org/event/regular-meeting-w-cascade-lions/
LOCATION:PJ Campbells Depot\, 114 Depot Rd.\, Plymouth\, WI\, 53073\, United States
END:VEVENT
BEGIN:VEVENT
DTSTART;TZID=America/Chicago:20250213T180000
DTEND;TZID=America/Chicago:20250213T203000
DTSTAMP:20260425T104318
CREATED:20240906T204317Z
LAST-MODIFIED:20240906T204317Z
UID:4313-1739469600-1739478600@plymouthlionsclub.org
SUMMARY:Valentine's Dinner w/Spouses
DESCRIPTION:
URL:https://plymouthlionsclub.org/event/valentines-dinner-w-spouses/
LOCATION:Antonio’s & Amore\, 18 W. Mill St.\, Plymouth\, WI\, 53073\, United States
END:VEVENT
BEGIN:VEVENT
DTSTART;TZID=America/Chicago:20250217T173000
DTEND;TZID=America/Chicago:20250217T183000
DTSTAMP:20260425T104318
CREATED:20240906T204427Z
LAST-MODIFIED:20240906T204427Z
UID:4315-1739813400-1739817000@plymouthlionsclub.org
SUMMARY:Board Meeting
DESCRIPTION:
URL:https://plymouthlionsclub.org/event/board-meeting-12/
LOCATION:Sweet Basil\, 645 Walton Dr\, Plymouth\, WI\, 53073
END:VEVENT
BEGIN:VEVENT
DTSTART;TZID=America/Chicago:20250310T180000
DTEND;TZID=America/Chicago:20250310T200000
DTSTAMP:20260425T104318
CREATED:20240906T204642Z
LAST-MODIFIED:20240906T204642Z
UID:4317-1741629600-1741636800@plymouthlionsclub.org
SUMMARY:Regular Meeting - Membership Drive
DESCRIPTION:
URL:https://plymouthlionsclub.org/event/regular-meeting-membership-drive/
LOCATION:Antonio’s & Amore\, 18 W. Mill St.\, Plymouth\, WI\, 53073\, United States
END:VEVENT
BEGIN:VEVENT
DTSTART;TZID=America/Chicago:20250317T173000
DTEND;TZID=America/Chicago:20250317T183000
DTSTAMP:20260425T104318
CREATED:20240906T204732Z
LAST-MODIFIED:20240906T204732Z
UID:4319-1742232600-1742236200@plymouthlionsclub.org
SUMMARY:Board Meeting
DESCRIPTION:
URL:https://plymouthlionsclub.org/event/board-meeting-13/
LOCATION:Sweet Basil\, 645 Walton Dr\, Plymouth\, WI\, 53073
END:VEVENT
BEGIN:VEVENT
DTSTART;TZID=America/Chicago:20250414T170000
DTEND;TZID=America/Chicago:20250414T180000
DTSTAMP:20260425T104318
CREATED:20240906T204840Z
LAST-MODIFIED:20240906T204840Z
UID:4321-1744650000-1744653600@plymouthlionsclub.org
SUMMARY:Board Meeting
DESCRIPTION:
URL:https://plymouthlionsclub.org/event/board-meeting-14/
LOCATION:PJ Campbells Depot\, 114 Depot Rd.\, Plymouth\, WI\, 53073\, United States
END:VEVENT
BEGIN:VEVENT
DTSTART;TZID=America/Chicago:20250414T180000
DTEND;TZID=America/Chicago:20250414T203000
DTSTAMP:20260425T104318
CREATED:20240906T204953Z
LAST-MODIFIED:20240906T204953Z
UID:4323-1744653600-1744662600@plymouthlionsclub.org
SUMMARY:Regular Meeting - Elections
DESCRIPTION:
URL:https://plymouthlionsclub.org/event/regular-meeting-elections/
LOCATION:PJ Campbells Depot\, 114 Depot Rd.\, Plymouth\, WI\, 53073\, United States
END:VEVENT
BEGIN:VEVENT
DTSTART;TZID=America/Chicago:20250512T170000
DTEND;TZID=America/Chicago:20250512T180000
DTSTAMP:20260425T104318
CREATED:20240906T205123Z
LAST-MODIFIED:20240906T205123Z
UID:4325-1747069200-1747072800@plymouthlionsclub.org
SUMMARY:Board Meeting
DESCRIPTION:
URL:https://plymouthlionsclub.org/event/board-meeting-15/
LOCATION:Racers\, W4408 County Rd. C\, Plymouth\, WI\, 53073\, United States
END:VEVENT
BEGIN:VEVENT
DTSTART;TZID=America/Chicago:20250512T180000
DTEND;TZID=America/Chicago:20250512T203000
DTSTAMP:20260425T104318
CREATED:20240906T205232Z
LAST-MODIFIED:20240906T205232Z
UID:4327-1747072800-1747081800@plymouthlionsclub.org
SUMMARY:Regular Meeting
DESCRIPTION:
URL:https://plymouthlionsclub.org/event/regular-meeting-3/
LOCATION:Racers\, W4408 County Rd. C\, Plymouth\, WI\, 53073\, United States
END:VEVENT
BEGIN:VEVENT
DTSTART;TZID=America/Chicago:20250612T180000
DTEND;TZID=America/Chicago:20250612T203000
DTSTAMP:20260425T104318
CREATED:20240906T205529Z
LAST-MODIFIED:20240906T205529Z
UID:4331-1749751200-1749760200@plymouthlionsclub.org
SUMMARY:Regular Meeting w/Spouses (Officer Installation)
DESCRIPTION:
URL:https://plymouthlionsclub.org/event/regular-meeting-w-spouses-officer-installation/
LOCATION:Antonio’s & Amore\, 18 W. Mill St.\, Plymouth\, WI\, 53073\, United States
END:VEVENT
BEGIN:VEVENT
DTSTART;TZID=America/Chicago:20250616T173000
DTEND;TZID=America/Chicago:20250616T183000
DTSTAMP:20260425T104318
CREATED:20240906T205349Z
LAST-MODIFIED:20240906T205349Z
UID:4329-1750095000-1750098600@plymouthlionsclub.org
SUMMARY:Board Meeting
DESCRIPTION:
URL:https://plymouthlionsclub.org/event/board-meeting-16/
LOCATION:Sweet Basil\, 645 Walton Dr\, Plymouth\, WI\, 53073
END:VEVENT
END:VCALENDAR