BEGIN:VCALENDAR
VERSION:2.0
PRODID:-//Plymouth Lions Club - ECPv6.15.18//NONSGML v1.0//EN
CALSCALE:GREGORIAN
METHOD:PUBLISH
X-ORIGINAL-URL:https://plymouthlionsclub.org
X-WR-CALDESC:Events for Plymouth Lions Club
REFRESH-INTERVAL;VALUE=DURATION:PT1H
X-Robots-Tag:noindex
X-PUBLISHED-TTL:PT1H
BEGIN:VTIMEZONE
TZID:America/Chicago
BEGIN:DAYLIGHT
TZOFFSETFROM:-0600
TZOFFSETTO:-0500
TZNAME:CDT
DTSTART:20230312T080000
END:DAYLIGHT
BEGIN:STANDARD
TZOFFSETFROM:-0500
TZOFFSETTO:-0600
TZNAME:CST
DTSTART:20231105T070000
END:STANDARD
BEGIN:DAYLIGHT
TZOFFSETFROM:-0600
TZOFFSETTO:-0500
TZNAME:CDT
DTSTART:20240310T080000
END:DAYLIGHT
BEGIN:STANDARD
TZOFFSETFROM:-0500
TZOFFSETTO:-0600
TZNAME:CST
DTSTART:20241103T070000
END:STANDARD
BEGIN:DAYLIGHT
TZOFFSETFROM:-0600
TZOFFSETTO:-0500
TZNAME:CDT
DTSTART:20250309T080000
END:DAYLIGHT
BEGIN:STANDARD
TZOFFSETFROM:-0500
TZOFFSETTO:-0600
TZNAME:CST
DTSTART:20251102T070000
END:STANDARD
END:VTIMEZONE
BEGIN:VEVENT
DTSTART;TZID=America/Chicago:20240101T080000
DTEND;TZID=America/Chicago:20240131T170000
DTSTAMP:20260424T215635
CREATED:20230802T201140Z
LAST-MODIFIED:20230802T201140Z
UID:4211-1704096000-1706720400@plymouthlionsclub.org
SUMMARY:January 2024 - Drivers
DESCRIPTION:*Ryan Osness\, Stuart Blanke\, Andrew Nass\, Ron Sippel
URL:https://plymouthlionsclub.org/event/january-2024-drivers/
LOCATION:WI
CATEGORIES:Drivers
END:VEVENT
BEGIN:VEVENT
DTSTART;TZID=America/Chicago:20240108T180000
DTEND;TZID=America/Chicago:20240108T180000
DTSTAMP:20260424T215635
CREATED:20230802T201331Z
LAST-MODIFIED:20230802T201331Z
UID:4215-1704736800-1704736800@plymouthlionsclub.org
SUMMARY:January 2024 - Member Meeting w/ Cascade Lions
DESCRIPTION:
URL:https://plymouthlionsclub.org/event/january-2024-member-meeting-w-cascade-lions/
LOCATION:PJ Campbells Depot\, 114 Depot Rd.\, Plymouth\, WI\, 53073\, United States
CATEGORIES:Member Meetings
END:VEVENT
BEGIN:VEVENT
DTSTART;TZID=America/Chicago:20240111T180000
DTEND;TZID=America/Chicago:20240111T180000
DTSTAMP:20260424T215635
CREATED:20230802T201226Z
LAST-MODIFIED:20230802T201226Z
UID:4213-1704996000-1704996000@plymouthlionsclub.org
SUMMARY:January 2024 - Board Meeting
DESCRIPTION:
URL:https://plymouthlionsclub.org/event/january-2024-board-meeting/
LOCATION:The Hub\, W4302 County Rd. JM\, Sheboygan Falls\, WI\, 53085\, United States
CATEGORIES:Board Meetings
END:VEVENT
BEGIN:VEVENT
DTSTART;TZID=America/Chicago:20240122T113000
DTEND;TZID=America/Chicago:20240122T160000
DTSTAMP:20260424T215635
CREATED:20230802T201434Z
LAST-MODIFIED:20230802T201434Z
UID:4217-1705923000-1705939200@plymouthlionsclub.org
SUMMARY:January 2024 - Blood Drive #1
DESCRIPTION:
URL:https://plymouthlionsclub.org/event/january-2024-blood-drive-1/
LOCATION:Generations\, 1500 Douglas Dr.\, Plymouth\, WI\, 53073\, United States
CATEGORIES:Blood Drive
END:VEVENT
BEGIN:VEVENT
DTSTART;TZID=America/Chicago:20240126T113000
DTEND;TZID=America/Chicago:20240126T160000
DTSTAMP:20260424T215635
CREATED:20230802T201510Z
LAST-MODIFIED:20230802T201510Z
UID:4219-1706268600-1706284800@plymouthlionsclub.org
SUMMARY:January 2024 - Blood Drive #2
DESCRIPTION:
URL:https://plymouthlionsclub.org/event/january-2024-blood-drive-2/
LOCATION:Generations\, 1500 Douglas Dr.\, Plymouth\, WI\, 53073\, United States
CATEGORIES:Blood Drive
END:VEVENT
END:VCALENDAR