BEGIN:VCALENDAR
VERSION:2.0
PRODID:-//Plymouth Lions Club - ECPv6.15.18//NONSGML v1.0//EN
CALSCALE:GREGORIAN
METHOD:PUBLISH
X-ORIGINAL-URL:https://plymouthlionsclub.org
X-WR-CALDESC:Events for Plymouth Lions Club
REFRESH-INTERVAL;VALUE=DURATION:PT1H
X-Robots-Tag:noindex
X-PUBLISHED-TTL:PT1H
BEGIN:VTIMEZONE
TZID:America/Chicago
BEGIN:DAYLIGHT
TZOFFSETFROM:-0600
TZOFFSETTO:-0500
TZNAME:CDT
DTSTART:20230312T080000
END:DAYLIGHT
BEGIN:STANDARD
TZOFFSETFROM:-0500
TZOFFSETTO:-0600
TZNAME:CST
DTSTART:20231105T070000
END:STANDARD
BEGIN:DAYLIGHT
TZOFFSETFROM:-0600
TZOFFSETTO:-0500
TZNAME:CDT
DTSTART:20240310T080000
END:DAYLIGHT
BEGIN:STANDARD
TZOFFSETFROM:-0500
TZOFFSETTO:-0600
TZNAME:CST
DTSTART:20241103T070000
END:STANDARD
BEGIN:DAYLIGHT
TZOFFSETFROM:-0600
TZOFFSETTO:-0500
TZNAME:CDT
DTSTART:20250309T080000
END:DAYLIGHT
BEGIN:STANDARD
TZOFFSETFROM:-0500
TZOFFSETTO:-0600
TZNAME:CST
DTSTART:20251102T070000
END:STANDARD
END:VTIMEZONE
BEGIN:VEVENT
DTSTART;TZID=America/Chicago:20240201T080000
DTEND;TZID=America/Chicago:20240229T170000
DTSTAMP:20260424T203153
CREATED:20230802T201601Z
LAST-MODIFIED:20230802T201601Z
UID:4221-1706774400-1709226000@plymouthlionsclub.org
SUMMARY:February 2024 - Drivers
DESCRIPTION:*Greg Rusch\, Jim Nass\, Jerry Baltus\, Shaun Thome
URL:https://plymouthlionsclub.org/event/february-2024-drivers/
LOCATION:WI
CATEGORIES:Drivers
END:VEVENT
BEGIN:VEVENT
DTSTART;TZID=America/Chicago:20240208T180000
DTEND;TZID=America/Chicago:20240208T180000
DTSTAMP:20260424T203153
CREATED:20230802T201738Z
LAST-MODIFIED:20230802T201738Z
UID:4225-1707415200-1707415200@plymouthlionsclub.org
SUMMARY:February 2024 - Valentine's Meeting w/ Spouses
DESCRIPTION:
URL:https://plymouthlionsclub.org/event/february-2024-valentines-meeting-w-spouses/
LOCATION:Antonio’s & Amore\, 18 W. Mill St.\, Plymouth\, WI\, 53073\, United States
CATEGORIES:Member Meetings
END:VEVENT
BEGIN:VEVENT
DTSTART;TZID=America/Chicago:20240215T180000
DTEND;TZID=America/Chicago:20240215T180000
DTSTAMP:20260424T203153
CREATED:20230802T201647Z
LAST-MODIFIED:20230802T201647Z
UID:4223-1708020000-1708020000@plymouthlionsclub.org
SUMMARY:February 2024 - Board Meeting
DESCRIPTION:
URL:https://plymouthlionsclub.org/event/february-2024-board-meeting/
LOCATION:The Hub\, W4302 County Rd. JM\, Sheboygan Falls\, WI\, 53085\, United States
CATEGORIES:Board Meetings
END:VEVENT
END:VCALENDAR