BEGIN:VCALENDAR
VERSION:2.0
PRODID:-//Plymouth Lions Club - ECPv6.15.18//NONSGML v1.0//EN
CALSCALE:GREGORIAN
METHOD:PUBLISH
X-ORIGINAL-URL:https://plymouthlionsclub.org
X-WR-CALDESC:Events for Plymouth Lions Club
REFRESH-INTERVAL;VALUE=DURATION:PT1H
X-Robots-Tag:noindex
X-PUBLISHED-TTL:PT1H
BEGIN:VTIMEZONE
TZID:America/Chicago
BEGIN:DAYLIGHT
TZOFFSETFROM:-0600
TZOFFSETTO:-0500
TZNAME:CDT
DTSTART:20230312T080000
END:DAYLIGHT
BEGIN:STANDARD
TZOFFSETFROM:-0500
TZOFFSETTO:-0600
TZNAME:CST
DTSTART:20231105T070000
END:STANDARD
BEGIN:DAYLIGHT
TZOFFSETFROM:-0600
TZOFFSETTO:-0500
TZNAME:CDT
DTSTART:20240310T080000
END:DAYLIGHT
BEGIN:STANDARD
TZOFFSETFROM:-0500
TZOFFSETTO:-0600
TZNAME:CST
DTSTART:20241103T070000
END:STANDARD
BEGIN:DAYLIGHT
TZOFFSETFROM:-0600
TZOFFSETTO:-0500
TZNAME:CDT
DTSTART:20250309T080000
END:DAYLIGHT
BEGIN:STANDARD
TZOFFSETFROM:-0500
TZOFFSETTO:-0600
TZNAME:CST
DTSTART:20251102T070000
END:STANDARD
END:VTIMEZONE
BEGIN:VEVENT
DTSTART;TZID=America/Chicago:20240301T080000
DTEND;TZID=America/Chicago:20240331T170000
DTSTAMP:20260424T190344
CREATED:20230802T201826Z
LAST-MODIFIED:20230802T201826Z
UID:4227-1709280000-1711904400@plymouthlionsclub.org
SUMMARY:March 2024 - Drivers
DESCRIPTION:*Paul Van Ess\, Greg Wieser\, Jim Glassford\, Tom Miller
URL:https://plymouthlionsclub.org/event/march-2024-drivers/
LOCATION:WI
CATEGORIES:Drivers
END:VEVENT
BEGIN:VEVENT
DTSTART;TZID=America/Chicago:20240313T180000
DTEND;TZID=America/Chicago:20240313T180000
DTSTAMP:20260424T190344
CREATED:20230802T202014Z
LAST-MODIFIED:20230802T202014Z
UID:4231-1710352800-1710352800@plymouthlionsclub.org
SUMMARY:March 2024 - Membership Drive Meeting
DESCRIPTION:
URL:https://plymouthlionsclub.org/event/march-2024-membership-drive-meeting/
LOCATION:Antonio’s & Amore\, 18 W. Mill St.\, Plymouth\, WI\, 53073\, United States
CATEGORIES:Member Meetings
END:VEVENT
BEGIN:VEVENT
DTSTART;TZID=America/Chicago:20240321T180000
DTEND;TZID=America/Chicago:20240321T180000
DTSTAMP:20260424T190344
CREATED:20230802T201921Z
LAST-MODIFIED:20230802T201921Z
UID:4229-1711044000-1711044000@plymouthlionsclub.org
SUMMARY:March 2024 - Board Meeting
DESCRIPTION:
URL:https://plymouthlionsclub.org/event/march-2024-board-meeting/
LOCATION:The Hub\, W4302 County Rd. JM\, Sheboygan Falls\, WI\, 53085\, United States
CATEGORIES:Board Meetings
END:VEVENT
BEGIN:VEVENT
DTSTART;TZID=America/Chicago:20240325T113000
DTEND;TZID=America/Chicago:20240325T160000
DTSTAMP:20260424T190344
CREATED:20230802T202052Z
LAST-MODIFIED:20230802T202052Z
UID:4233-1711366200-1711382400@plymouthlionsclub.org
SUMMARY:March 2024 - Blood Drive #1
DESCRIPTION:
URL:https://plymouthlionsclub.org/event/march-2024-blood-drive-1/
LOCATION:Generations\, 1500 Douglas Dr.\, Plymouth\, WI\, 53073\, United States
CATEGORIES:Blood Drive
END:VEVENT
BEGIN:VEVENT
DTSTART;TZID=America/Chicago:20240328T113000
DTEND;TZID=America/Chicago:20240328T160000
DTSTAMP:20260424T190344
CREATED:20230802T202124Z
LAST-MODIFIED:20230802T202124Z
UID:4235-1711625400-1711641600@plymouthlionsclub.org
SUMMARY:March 2024 - Blood Drive #2
DESCRIPTION:
URL:https://plymouthlionsclub.org/event/march-2024-blood-drive-2/
LOCATION:Generations\, 1500 Douglas Dr.\, Plymouth\, WI\, 53073\, United States
CATEGORIES:Blood Drive
END:VEVENT
END:VCALENDAR