BEGIN:VCALENDAR
VERSION:2.0
PRODID:-//Plymouth Lions Club - ECPv6.15.18//NONSGML v1.0//EN
CALSCALE:GREGORIAN
METHOD:PUBLISH
X-WR-CALNAME:Plymouth Lions Club
X-ORIGINAL-URL:https://plymouthlionsclub.org
X-WR-CALDESC:Events for Plymouth Lions Club
REFRESH-INTERVAL;VALUE=DURATION:PT1H
X-Robots-Tag:noindex
X-PUBLISHED-TTL:PT1H
BEGIN:VTIMEZONE
TZID:America/Chicago
BEGIN:DAYLIGHT
TZOFFSETFROM:-0600
TZOFFSETTO:-0500
TZNAME:CDT
DTSTART:20230312T080000
END:DAYLIGHT
BEGIN:STANDARD
TZOFFSETFROM:-0500
TZOFFSETTO:-0600
TZNAME:CST
DTSTART:20231105T070000
END:STANDARD
BEGIN:DAYLIGHT
TZOFFSETFROM:-0600
TZOFFSETTO:-0500
TZNAME:CDT
DTSTART:20240310T080000
END:DAYLIGHT
BEGIN:STANDARD
TZOFFSETFROM:-0500
TZOFFSETTO:-0600
TZNAME:CST
DTSTART:20241103T070000
END:STANDARD
BEGIN:DAYLIGHT
TZOFFSETFROM:-0600
TZOFFSETTO:-0500
TZNAME:CDT
DTSTART:20250309T080000
END:DAYLIGHT
BEGIN:STANDARD
TZOFFSETFROM:-0500
TZOFFSETTO:-0600
TZNAME:CST
DTSTART:20251102T070000
END:STANDARD
END:VTIMEZONE
BEGIN:VEVENT
DTSTART;TZID=America/Chicago:20240401T080000
DTEND;TZID=America/Chicago:20240430T170000
DTSTAMP:20260424T172333
CREATED:20230802T202217Z
LAST-MODIFIED:20230802T202217Z
UID:4237-1711958400-1714496400@plymouthlionsclub.org
SUMMARY:April 2024 - Drivers
DESCRIPTION:*Mark Melcher\, Tom Droll\, Mike Briggs\, Mallory Andrews
URL:https://plymouthlionsclub.org/event/april-2024-drivers/
LOCATION:WI
CATEGORIES:Drivers
END:VEVENT
BEGIN:VEVENT
DTSTART;TZID=America/Chicago:20240415T170000
DTEND;TZID=America/Chicago:20240415T173000
DTSTAMP:20260424T172333
CREATED:20230802T202314Z
LAST-MODIFIED:20230802T202314Z
UID:4239-1713200400-1713202200@plymouthlionsclub.org
SUMMARY:April 2024 - Board Meeting
DESCRIPTION:
URL:https://plymouthlionsclub.org/event/april-2024-board-meeting/
LOCATION:PJ Campbells Depot\, 114 Depot Rd.\, Plymouth\, WI\, 53073\, United States
CATEGORIES:Board Meetings
END:VEVENT
BEGIN:VEVENT
DTSTART;TZID=America/Chicago:20240415T180000
DTEND;TZID=America/Chicago:20240415T180000
DTSTAMP:20260424T172333
CREATED:20230802T202403Z
LAST-MODIFIED:20230802T202403Z
UID:4241-1713204000-1713204000@plymouthlionsclub.org
SUMMARY:April 2024 - Member Election Meeting
DESCRIPTION:
URL:https://plymouthlionsclub.org/event/april-2024-member-election-meeting/
LOCATION:PJ Campbells Depot\, 114 Depot Rd.\, Plymouth\, WI\, 53073\, United States
CATEGORIES:Member Meetings
END:VEVENT
END:VCALENDAR