BEGIN:VCALENDAR
VERSION:2.0
PRODID:-//Plymouth Lions Club - ECPv6.15.18//NONSGML v1.0//EN
CALSCALE:GREGORIAN
METHOD:PUBLISH
X-ORIGINAL-URL:https://plymouthlionsclub.org
X-WR-CALDESC:Events for Plymouth Lions Club
REFRESH-INTERVAL;VALUE=DURATION:PT1H
X-Robots-Tag:noindex
X-PUBLISHED-TTL:PT1H
BEGIN:VTIMEZONE
TZID:America/Chicago
BEGIN:DAYLIGHT
TZOFFSETFROM:-0600
TZOFFSETTO:-0500
TZNAME:CDT
DTSTART:20230312T080000
END:DAYLIGHT
BEGIN:STANDARD
TZOFFSETFROM:-0500
TZOFFSETTO:-0600
TZNAME:CST
DTSTART:20231105T070000
END:STANDARD
BEGIN:DAYLIGHT
TZOFFSETFROM:-0600
TZOFFSETTO:-0500
TZNAME:CDT
DTSTART:20240310T080000
END:DAYLIGHT
BEGIN:STANDARD
TZOFFSETFROM:-0500
TZOFFSETTO:-0600
TZNAME:CST
DTSTART:20241103T070000
END:STANDARD
BEGIN:DAYLIGHT
TZOFFSETFROM:-0600
TZOFFSETTO:-0500
TZNAME:CDT
DTSTART:20250309T080000
END:DAYLIGHT
BEGIN:STANDARD
TZOFFSETFROM:-0500
TZOFFSETTO:-0600
TZNAME:CST
DTSTART:20251102T070000
END:STANDARD
END:VTIMEZONE
BEGIN:VEVENT
DTSTART;TZID=America/Chicago:20240501T080000
DTEND;TZID=America/Chicago:20240531T170000
DTSTAMP:20260424T155029
CREATED:20230802T202439Z
LAST-MODIFIED:20230802T202439Z
UID:4243-1714550400-1717174800@plymouthlionsclub.org
SUMMARY:May 2024 - Drivers
DESCRIPTION:*Kevin Andrews\, Charlie Hansen\, Brian Zurn\, Steve Rolzin
URL:https://plymouthlionsclub.org/event/may-2024-drivers/
LOCATION:WI
CATEGORIES:Drivers
END:VEVENT
BEGIN:VEVENT
DTSTART;TZID=America/Chicago:20240512T100000
DTEND;TZID=America/Chicago:20240512T160000
DTSTAMP:20260424T155029
CREATED:20230802T202841Z
LAST-MODIFIED:20230802T202841Z
UID:4249-1715508000-1715529600@plymouthlionsclub.org
SUMMARY:May 2024 - Mother's Day Brat Fry
DESCRIPTION:Brat Fry – May 12 @ Tietz’s Piggly Wiggly in Plymouth – 1411 Eastern Ave.
URL:https://plymouthlionsclub.org/event/may-2024-mothers-day-brat-fry/
LOCATION:WI
CATEGORIES:Fundraiser
END:VEVENT
BEGIN:VEVENT
DTSTART;TZID=America/Chicago:20240513T170000
DTEND;TZID=America/Chicago:20240513T173000
DTSTAMP:20260424T155029
CREATED:20230802T202606Z
LAST-MODIFIED:20230802T202606Z
UID:4245-1715619600-1715621400@plymouthlionsclub.org
SUMMARY:May 2024 - Board Meeting
DESCRIPTION:
URL:https://plymouthlionsclub.org/event/may-2024-board-meeting/
LOCATION:PJ Campbells Depot\, 114 Depot Rd.\, Plymouth\, WI\, 53073\, United States
CATEGORIES:Board Meetings
END:VEVENT
BEGIN:VEVENT
DTSTART;TZID=America/Chicago:20240513T180000
DTEND;TZID=America/Chicago:20240513T180000
DTSTAMP:20260424T155029
CREATED:20230802T202641Z
LAST-MODIFIED:20230802T202641Z
UID:4247-1715623200-1715623200@plymouthlionsclub.org
SUMMARY:May 2024 - Member Meeting
DESCRIPTION:
URL:https://plymouthlionsclub.org/event/may-2024-member-meeting/
LOCATION:PJ Campbells Depot\, 114 Depot Rd.\, Plymouth\, WI\, 53073\, United States
CATEGORIES:Member Meetings
END:VEVENT
BEGIN:VEVENT
DTSTART;TZID=America/Chicago:20240522T113000
DTEND;TZID=America/Chicago:20240522T160000
DTSTAMP:20260424T155029
CREATED:20230802T202924Z
LAST-MODIFIED:20230802T202924Z
UID:4251-1716377400-1716393600@plymouthlionsclub.org
SUMMARY:May 2024 - Blood Drive #1
DESCRIPTION:
URL:https://plymouthlionsclub.org/event/may-2024-blood-drive-1/
LOCATION:Generations\, 1500 Douglas Dr.\, Plymouth\, WI\, 53073\, United States
CATEGORIES:Blood Drive
END:VEVENT
BEGIN:VEVENT
DTSTART;TZID=America/Chicago:20240531T113000
DTEND;TZID=America/Chicago:20240531T160000
DTSTAMP:20260424T155029
CREATED:20230802T202956Z
LAST-MODIFIED:20230802T202956Z
UID:4253-1717155000-1717171200@plymouthlionsclub.org
SUMMARY:May 2024 - Blood Drive #2
DESCRIPTION:
URL:https://plymouthlionsclub.org/event/may-2024-blood-drive-2/
LOCATION:Generations\, 1500 Douglas Dr.\, Plymouth\, WI\, 53073\, United States
CATEGORIES:Blood Drive
END:VEVENT
END:VCALENDAR