BEGIN:VCALENDAR
VERSION:2.0
PRODID:-//Plymouth Lions Club - ECPv6.15.18//NONSGML v1.0//EN
CALSCALE:GREGORIAN
METHOD:PUBLISH
X-WR-CALNAME:Plymouth Lions Club
X-ORIGINAL-URL:https://plymouthlionsclub.org
X-WR-CALDESC:Events for Plymouth Lions Club
REFRESH-INTERVAL;VALUE=DURATION:PT1H
X-Robots-Tag:noindex
X-PUBLISHED-TTL:PT1H
BEGIN:VTIMEZONE
TZID:America/Chicago
BEGIN:DAYLIGHT
TZOFFSETFROM:-0600
TZOFFSETTO:-0500
TZNAME:CDT
DTSTART:20230312T080000
END:DAYLIGHT
BEGIN:STANDARD
TZOFFSETFROM:-0500
TZOFFSETTO:-0600
TZNAME:CST
DTSTART:20231105T070000
END:STANDARD
BEGIN:DAYLIGHT
TZOFFSETFROM:-0600
TZOFFSETTO:-0500
TZNAME:CDT
DTSTART:20240310T080000
END:DAYLIGHT
BEGIN:STANDARD
TZOFFSETFROM:-0500
TZOFFSETTO:-0600
TZNAME:CST
DTSTART:20241103T070000
END:STANDARD
BEGIN:DAYLIGHT
TZOFFSETFROM:-0600
TZOFFSETTO:-0500
TZNAME:CDT
DTSTART:20250309T080000
END:DAYLIGHT
BEGIN:STANDARD
TZOFFSETFROM:-0500
TZOFFSETTO:-0600
TZNAME:CST
DTSTART:20251102T070000
END:STANDARD
END:VTIMEZONE
BEGIN:VEVENT
DTSTART;TZID=America/Chicago:20240601T080000
DTEND;TZID=America/Chicago:20240630T170000
DTSTAMP:20260424T141837
CREATED:20230802T203037Z
LAST-MODIFIED:20230802T203037Z
UID:4255-1717228800-1719766800@plymouthlionsclub.org
SUMMARY:June 2024 - Drivers
DESCRIPTION:*Scott Shaw\, Mike Roberts\, Lorena McKerrow\, Sara Immel
URL:https://plymouthlionsclub.org/event/june-2024-drivers/
LOCATION:WI
CATEGORIES:Drivers
END:VEVENT
BEGIN:VEVENT
DTSTART;TZID=America/Chicago:20240607T170000
DTEND;TZID=America/Chicago:20240608T220000
DTSTAMP:20260424T141837
CREATED:20240605T195522Z
LAST-MODIFIED:20240605T195522Z
UID:4278-1717779600-1717884000@plymouthlionsclub.org
SUMMARY:2024 Cheese Capital Festival
DESCRIPTION:
URL:https://plymouthlionsclub.org/event/2024-cheese-capital-festival/
LOCATION:Stayer Park\, 39 S. Stafford St.\, Plymouth\, WI\, 53073\, United States
CATEGORIES:Fundraiser
END:VEVENT
BEGIN:VEVENT
DTSTART;TZID=America/Chicago:20240613T180000
DTEND;TZID=America/Chicago:20240613T180000
DTSTAMP:20260424T141837
CREATED:20230802T203206Z
LAST-MODIFIED:20230802T203206Z
UID:4259-1718301600-1718301600@plymouthlionsclub.org
SUMMARY:June 2024 - Member Officer Installation Meeting w/ Spouses
DESCRIPTION:
URL:https://plymouthlionsclub.org/event/june-2024-member-officer-installation-meeting-w-spouses/
LOCATION:Antonio’s & Amore\, 18 W. Mill St.\, Plymouth\, WI\, 53073\, United States
CATEGORIES:Member Meetings
END:VEVENT
BEGIN:VEVENT
DTSTART;TZID=America/Chicago:20240620T180000
DTEND;TZID=America/Chicago:20240620T180000
DTSTAMP:20260424T141837
CREATED:20230802T203121Z
LAST-MODIFIED:20230802T203121Z
UID:4257-1718906400-1718906400@plymouthlionsclub.org
SUMMARY:June 2024 - Board Meeting
DESCRIPTION:
URL:https://plymouthlionsclub.org/event/june-2024-board-meeting/
LOCATION:The Hub\, W4302 County Rd. JM\, Sheboygan Falls\, WI\, 53085\, United States
CATEGORIES:Board Meetings
END:VEVENT
END:VCALENDAR