BEGIN:VCALENDAR
VERSION:2.0
PRODID:-//Plymouth Lions Club - ECPv6.15.18//NONSGML v1.0//EN
CALSCALE:GREGORIAN
METHOD:PUBLISH
X-ORIGINAL-URL:https://plymouthlionsclub.org
X-WR-CALDESC:Events for Plymouth Lions Club
REFRESH-INTERVAL;VALUE=DURATION:PT1H
X-Robots-Tag:noindex
X-PUBLISHED-TTL:PT1H
BEGIN:VTIMEZONE
TZID:America/Chicago
BEGIN:DAYLIGHT
TZOFFSETFROM:-0600
TZOFFSETTO:-0500
TZNAME:CDT
DTSTART:20230312T080000
END:DAYLIGHT
BEGIN:STANDARD
TZOFFSETFROM:-0500
TZOFFSETTO:-0600
TZNAME:CST
DTSTART:20231105T070000
END:STANDARD
BEGIN:DAYLIGHT
TZOFFSETFROM:-0600
TZOFFSETTO:-0500
TZNAME:CDT
DTSTART:20240310T080000
END:DAYLIGHT
BEGIN:STANDARD
TZOFFSETFROM:-0500
TZOFFSETTO:-0600
TZNAME:CST
DTSTART:20241103T070000
END:STANDARD
BEGIN:DAYLIGHT
TZOFFSETFROM:-0600
TZOFFSETTO:-0500
TZNAME:CDT
DTSTART:20250309T080000
END:DAYLIGHT
BEGIN:STANDARD
TZOFFSETFROM:-0500
TZOFFSETTO:-0600
TZNAME:CST
DTSTART:20251102T070000
END:STANDARD
END:VTIMEZONE
BEGIN:VEVENT
DTSTART;TZID=America/Chicago:20240923T113000
DTEND;TZID=America/Chicago:20240923T173000
DTSTAMP:20260424T141951
CREATED:20240906T205625Z
LAST-MODIFIED:20240906T205625Z
UID:4333-1727091000-1727112600@plymouthlionsclub.org
SUMMARY:Blood Drive
DESCRIPTION:
URL:https://plymouthlionsclub.org/event/blood-drive-5/
LOCATION:Generations\, 1500 Douglas Dr.\, Plymouth\, WI\, 53073\, United States
END:VEVENT
BEGIN:VEVENT
DTSTART;TZID=America/Chicago:20240923T170000
DTEND;TZID=America/Chicago:20240923T180000
DTSTAMP:20260424T141951
CREATED:20240906T202019Z
LAST-MODIFIED:20240906T202019Z
UID:4289-1727110800-1727114400@plymouthlionsclub.org
SUMMARY:Board Meeting
DESCRIPTION:
URL:https://plymouthlionsclub.org/event/board-meeting-7/
LOCATION:PJ Campbells Depot\, 114 Depot Rd.\, Plymouth\, WI\, 53073\, United States
END:VEVENT
BEGIN:VEVENT
DTSTART;TZID=America/Chicago:20240923T180000
DTEND;TZID=America/Chicago:20240923T203000
DTSTAMP:20260424T141951
CREATED:20240906T202210Z
LAST-MODIFIED:20240906T202210Z
UID:4291-1727114400-1727123400@plymouthlionsclub.org
SUMMARY:Regular Meeting
DESCRIPTION:6pm Social / 7pm Dinner & Program
URL:https://plymouthlionsclub.org/event/regular-meeting/
LOCATION:WI
END:VEVENT
BEGIN:VEVENT
DTSTART;TZID=America/Chicago:20240925T113000
DTEND;TZID=America/Chicago:20240925T173000
DTSTAMP:20260424T141951
CREATED:20240906T205732Z
LAST-MODIFIED:20240906T205732Z
UID:4335-1727263800-1727285400@plymouthlionsclub.org
SUMMARY:Blood Drive
DESCRIPTION:
URL:https://plymouthlionsclub.org/event/blood-drive-6/
LOCATION:Generations\, 1500 Douglas Dr.\, Plymouth\, WI\, 53073\, United States
END:VEVENT
END:VCALENDAR