BEGIN:VCALENDAR
VERSION:2.0
PRODID:-//Plymouth Lions Club - ECPv6.15.18//NONSGML v1.0//EN
CALSCALE:GREGORIAN
METHOD:PUBLISH
X-ORIGINAL-URL:https://plymouthlionsclub.org
X-WR-CALDESC:Events for Plymouth Lions Club
REFRESH-INTERVAL;VALUE=DURATION:PT1H
X-Robots-Tag:noindex
X-PUBLISHED-TTL:PT1H
BEGIN:VTIMEZONE
TZID:America/Chicago
BEGIN:DAYLIGHT
TZOFFSETFROM:-0600
TZOFFSETTO:-0500
TZNAME:CDT
DTSTART:20230312T080000
END:DAYLIGHT
BEGIN:STANDARD
TZOFFSETFROM:-0500
TZOFFSETTO:-0600
TZNAME:CST
DTSTART:20231105T070000
END:STANDARD
BEGIN:DAYLIGHT
TZOFFSETFROM:-0600
TZOFFSETTO:-0500
TZNAME:CDT
DTSTART:20240310T080000
END:DAYLIGHT
BEGIN:STANDARD
TZOFFSETFROM:-0500
TZOFFSETTO:-0600
TZNAME:CST
DTSTART:20241103T070000
END:STANDARD
BEGIN:DAYLIGHT
TZOFFSETFROM:-0600
TZOFFSETTO:-0500
TZNAME:CDT
DTSTART:20250309T080000
END:DAYLIGHT
BEGIN:STANDARD
TZOFFSETFROM:-0500
TZOFFSETTO:-0600
TZNAME:CST
DTSTART:20251102T070000
END:STANDARD
END:VTIMEZONE
BEGIN:VEVENT
DTSTART;TZID=America/Chicago:20241010T173000
DTEND;TZID=America/Chicago:20241010T203000
DTSTAMP:20260424T155029
CREATED:20240906T202659Z
LAST-MODIFIED:20240906T202659Z
UID:4293-1728581400-1728592200@plymouthlionsclub.org
SUMMARY:60th Anniversary Dinner
DESCRIPTION:5:30pm    –    Social & Cocktails \n6:30pm   –   Dinner and Program
URL:https://plymouthlionsclub.org/event/60th-anniversary-dinner/
LOCATION:Millhome Supper Club\, 16524 Lax Chapel Rd\, Kiel\, WI\, 53042
END:VEVENT
BEGIN:VEVENT
DTSTART;TZID=America/Chicago:20241021T173000
DTEND;TZID=America/Chicago:20241021T183000
DTSTAMP:20260424T155029
CREATED:20240906T202946Z
LAST-MODIFIED:20240906T202946Z
UID:4296-1729531800-1729535400@plymouthlionsclub.org
SUMMARY:Board Meeting
DESCRIPTION:
URL:https://plymouthlionsclub.org/event/board-meeting-8/
LOCATION:Sweet Basil\, 645 Walton Dr\, Plymouth\, WI\, 53073
END:VEVENT
BEGIN:VEVENT
DTSTART;TZID=America/Chicago:20241027T100000
DTEND;TZID=America/Chicago:20241027T160000
DTSTAMP:20260424T155029
CREATED:20240906T203106Z
LAST-MODIFIED:20240906T203106Z
UID:4299-1730023200-1730044800@plymouthlionsclub.org
SUMMARY:Tailgate Party fundraiser
DESCRIPTION:
URL:https://plymouthlionsclub.org/event/tailgate-party-fundraiser/
LOCATION:Antonio’s & Amore\, 18 W. Mill St.\, Plymouth\, WI\, 53073\, United States
END:VEVENT
END:VCALENDAR